BEGIN:VCALENDAR
VERSION:2.0
PRODID:-//hacksw/handcal//NONSGML v1.0//EN
CALSCALE:GREGORIAN
BEGIN:VEVENT
UID:69e65f52bbab1
DTSTART:20181104T203000Z
DTSTAMP:20260420T171602Z
DTEND:20181105T203000Z
LOCATION:San Francisco
DESCRIPTION:Nano Tenchnology Event
URL;VALUE=URI:https://medicinalchemistry.pharmaceuticalconferences.co
 om/
SUMMARY:19th International Conference on Medicinal Chemistry & Multi 
  Targeted Drug Delivery
END:VEVENT
END:VCALENDAR
