BEGIN:VCALENDAR
VERSION:2.0
PRODID:-//hacksw/handcal//NONSGML v1.0//EN
CALSCALE:GREGORIAN
BEGIN:VEVENT
UID:69e64d2d1a190
DTSTART:20181030T203000Z
DTSTAMP:20260420T155837Z
DTEND:20181031T203000Z
LOCATION:San Francisco
DESCRIPTION:Nano Tenchnology Event
URL;VALUE=URI:https://pharmanutraceuticals.conferenceseries.com/
SUMMARY:21st International Conference on Food Chemistry & Nutraceutic
 cals
END:VEVENT
END:VCALENDAR
