BEGIN:VCALENDAR
VERSION:2.0
PRODID:-//hacksw/handcal//NONSGML v1.0//EN
CALSCALE:GREGORIAN
BEGIN:VEVENT
UID:69e64d2ca2b3b
DTSTART:20181030T203000Z
DTSTAMP:20260420T155836Z
DTEND:20181031T203000Z
LOCATION:San Francisco
DESCRIPTION:Nano Tenchnology Event
URL;VALUE=URI:https://pharmaceuticalchemistry.pharmaceuticalconferenc
 ces.com/
SUMMARY:21st International Exhibition & Conference on  Pharmaceutical
 l Chemistry
END:VEVENT
END:VCALENDAR
