BEGIN:VCALENDAR
VERSION:2.0
PRODID:-//hacksw/handcal//NONSGML v1.0//EN
CALSCALE:GREGORIAN
BEGIN:VEVENT
UID:69e64d5c1e72a
DTSTART:20181028T203000Z
DTSTAMP:20260420T155924Z
DTEND:20181030T203000Z
LOCATION:Brussels
DESCRIPTION:Nano Tenchnology Event
URL;VALUE=URI:https://pharmaceuticalchemistry.conferenceseries.com/
SUMMARY:3rd International Conference on Pharmaceutical Chemistry
END:VEVENT
END:VCALENDAR
