BEGIN:VCALENDAR
VERSION:2.0
PRODID:-//hacksw/handcal//NONSGML v1.0//EN
CALSCALE:GREGORIAN
BEGIN:VEVENT
UID:69e639a8a1278
DTSTART:20180923T203000Z
DTSTAMP:20260420T143520Z
DTEND:20180924T203000Z
LOCATION:Chicago
DESCRIPTION:Nano Tenchnology Event
URL;VALUE=URI:https://drugchemistry.conferenceseries.com/
SUMMARY:20th International Conference on Computer Aided Drug Designin
 ng and Drug Delivery
END:VEVENT
END:VCALENDAR
