BEGIN:VCALENDAR
VERSION:2.0
PRODID:-//hacksw/handcal//NONSGML v1.0//EN
CALSCALE:GREGORIAN
BEGIN:VEVENT
UID:69e65f90eb5f5
DTSTART:20181107T203000Z
DTSTAMP:20260420T171704Z
DTEND:20181108T203000Z
LOCATION:Auckland
DESCRIPTION:Nano Tenchnology Event
URL;VALUE=URI:https://lcms.massspectra.com/
SUMMARY:9th International Conference on  Mass Spectrometry and Chroma
 atography
END:VEVENT
END:VCALENDAR
