BEGIN:VCALENDAR
VERSION:2.0
PRODID:-//hacksw/handcal//NONSGML v1.0//EN
CALSCALE:GREGORIAN
BEGIN:VEVENT
UID:69e6243b4926b
DTSTART:20180916T193000Z
DTSTAMP:20260420T130355Z
DTEND:20180918T193000Z
LOCATION:Amsterdam
DESCRIPTION:Nano Tenchnology Event
URL;VALUE=URI:https://greenchemistry.chemistryconferences.org/
SUMMARY:9th World Congress on Green Chemistry and Technology
END:VEVENT
END:VCALENDAR
