BEGIN:VCALENDAR
VERSION:2.0
PRODID:-//hacksw/handcal//NONSGML v1.0//EN
CALSCALE:GREGORIAN
BEGIN:VEVENT
UID:69e6246e644a7
DTSTART:20180912T193000Z
DTSTAMP:20260420T130446Z
DTEND:20180913T193000Z
LOCATION:Prague
DESCRIPTION:Nano Tenchnology Event
URL;VALUE=URI:https://polymerscience.annualcongress.com/
SUMMARY:International Conference on  Polymer Science and Technology
END:VEVENT
END:VCALENDAR
