BEGIN:VCALENDAR
VERSION:2.0
PRODID:-//hacksw/handcal//NONSGML v1.0//EN
CALSCALE:GREGORIAN
BEGIN:VEVENT
UID:69e6747ecf532
DTSTART:20181206T203000Z
DTSTAMP:20260420T184622Z
DTEND:20181207T203000Z
LOCATION:Chicago
DESCRIPTION:Nano Tenchnology Event
URL;VALUE=URI:https://www.dentalcongress.com/america/
SUMMARY:27th American Dental Congress
END:VEVENT
END:VCALENDAR
