BEGIN:VCALENDAR
VERSION:2.0
PRODID:-//hacksw/handcal//NONSGML v1.0//EN
CALSCALE:GREGORIAN
BEGIN:VEVENT
UID:69e65fe875b3b
DTSTART:20181114T203000Z
DTSTAMP:20260420T171832Z
DTEND:20181115T203000Z
LOCATION:Edinburgh
DESCRIPTION:Nano Tenchnology Event
URL;VALUE=URI:https://advanced-dental-education.dentistryconferences.
 .com/
SUMMARY:3rd International Conference on  Advanced Dental Education
END:VEVENT
END:VCALENDAR
