BEGIN:VCALENDAR
VERSION:2.0
PRODID:-//hacksw/handcal//NONSGML v1.0//EN
CALSCALE:GREGORIAN
BEGIN:VEVENT
UID:69e5e9432e2f6
DTSTART:20180613T193000Z
DTSTAMP:20260420T085219Z
DTEND:20180614T193000Z
LOCATION:London
DESCRIPTION:Nano Tenchnology Event
URL;VALUE=URI:https://windenergy.conferenceseries.com/
SUMMARY:2nd World Congress on  Wind & Renewable Energy
END:VEVENT
END:VCALENDAR
