BEGIN:VCALENDAR
VERSION:2.0
PRODID:-//hacksw/handcal//NONSGML v1.0//EN
CALSCALE:GREGORIAN
BEGIN:VEVENT
UID:69e6115f2f5a1
DTSTART:20180909T193000Z
DTSTAMP:20260420T114327Z
DTEND:20180910T193000Z
LOCATION:Shanghai
DESCRIPTION:Nano Tenchnology Event
URL;VALUE=URI:https://electronicengineering.enggconferences.com/
SUMMARY:5th International Conference and Exhibition on  Nanoelectroni
 ics and its Applications
END:VEVENT
END:VCALENDAR
