BEGIN:VCALENDAR
VERSION:2.0
PRODID:-//hacksw/handcal//NONSGML v1.0//EN
CALSCALE:GREGORIAN
BEGIN:VEVENT
UID:69e61175e0db9
DTSTART:20180902T193000Z
DTSTAMP:20260420T114349Z
DTEND:20180903T193000Z
LOCATION:Auckland
DESCRIPTION:Nano Tenchnology Event
URL;VALUE=URI:https://opticalfibre.enggconferences.com/
SUMMARY:International Summit and Expo on  Optical Fibre Communication
 ns
END:VEVENT
END:VCALENDAR
