BEGIN:VCALENDAR
VERSION:2.0
PRODID:-//hacksw/handcal//NONSGML v1.0//EN
CALSCALE:GREGORIAN
BEGIN:VEVENT
UID:69e611d5bb2f5
DTSTART:20180828T193000Z
DTSTAMP:20260420T114525Z
DTEND:20180829T193000Z
LOCATION:Tokyo
DESCRIPTION:Nano Tenchnology Event
URL;VALUE=URI:https://biosensorscongress.conferenceseries.com/
SUMMARY:9th World Congress on Biosensors and Bioelectronics
END:VEVENT
END:VCALENDAR
