BEGIN:VCALENDAR
VERSION:2.0
PRODID:-//hacksw/handcal//NONSGML v1.0//EN
CALSCALE:GREGORIAN
BEGIN:VEVENT
UID:69e639448c197
DTSTART:20180920T193000Z
DTSTAMP:20260420T143340Z
DTEND:20180921T203000Z
LOCATION:Dallas
DESCRIPTION:Nano Tenchnology Event
URL;VALUE=URI:https://biosensors.conferenceseries.com/
SUMMARY:10th International Conference & Exhibition on  Biosensors & B
 Bioelectronics
END:VEVENT
END:VCALENDAR
