BEGIN:VCALENDAR
VERSION:2.0
PRODID:-//hacksw/handcal//NONSGML v1.0//EN
CALSCALE:GREGORIAN
BEGIN:VEVENT
UID:69e65f533fe0c
DTSTART:20181111T203000Z
DTSTAMP:20260420T171603Z
DTEND:20181112T203000Z
LOCATION:Frankfurt
DESCRIPTION:Nano Tenchnology Event
URL;VALUE=URI:https://agri-foodsecurity.agriconferences.com/
SUMMARY:3rd International Conference On Agricultural Engineering and 
  Food Security
END:VEVENT
END:VCALENDAR
