BEGIN:VCALENDAR
VERSION:2.0
PRODID:-//hacksw/handcal//NONSGML v1.0//EN
CALSCALE:GREGORIAN
BEGIN:VEVENT
UID:69e6747e32ab3
DTSTART:20181121T203000Z
DTSTAMP:20260420T184622Z
DTEND:20181123T203000Z
LOCATION:Bucharest
DESCRIPTION:Nano Tenchnology Event
URL;VALUE=URI:https://opticsphotonics.physicsmeeting.com/
SUMMARY:9th World Congress and Expo on Optics\, Photonics and Telecom
 mmunication
END:VEVENT
END:VCALENDAR
