BEGIN:VCALENDAR
VERSION:2.0
PRODID:-//hacksw/handcal//NONSGML v1.0//EN
CALSCALE:GREGORIAN
BEGIN:VEVENT
UID:69e5cf5ad45a3
DTSTART:20180613T193000Z
DTSTAMP:20260420T070146Z
DTEND:20180615T193000Z
LOCATION:London
DESCRIPTION:Nano Tenchnology Event
URL;VALUE=URI:https://greenenergy.conferenceseries.com/europe/
SUMMARY:5th World Congress and Expo on  Green Energy
END:VEVENT
END:VCALENDAR
