BEGIN:VCALENDAR
VERSION:2.0
PRODID:-//hacksw/handcal//NONSGML v1.0//EN
CALSCALE:GREGORIAN
BEGIN:VEVENT
UID:69e5fe21475e1
DTSTART:20180718T193000Z
DTSTAMP:20260420T102121Z
DTEND:20180719T193000Z
LOCATION:Melbourne
DESCRIPTION:Nano Tenchnology Event
URL;VALUE=URI:https://greenchem.conferenceseries.com/
SUMMARY:5th World Congress on Green Chemistry and Green Engineering
END:VEVENT
END:VCALENDAR
