BEGIN:VCALENDAR
VERSION:2.0
PRODID:-//hacksw/handcal//NONSGML v1.0//EN
CALSCALE:GREGORIAN
BEGIN:VEVENT
UID:69e611ff7ca9f
DTSTART:20180828T193000Z
DTSTAMP:20260420T114607Z
DTEND:20180830T193000Z
LOCATION:Toronto
DESCRIPTION:Nano Tenchnology Event
URL;VALUE=URI:https://greenenergy.conferenceseries.com/
SUMMARY:6th International Conference on  Green Energy & Expo
END:VEVENT
END:VCALENDAR
