BEGIN:VCALENDAR
VERSION:2.0
PRODID:-//hacksw/handcal//NONSGML v1.0//EN
CALSCALE:GREGORIAN
BEGIN:VEVENT
UID:69e5ea02874e7
DTSTART:20180701T193000Z
DTSTAMP:20260420T085530Z
DTEND:20180702T193000Z
LOCATION:Vienna
DESCRIPTION:Nano Tenchnology Event
URL;VALUE=URI:https://appliedphysics.physicsmeeting.com/
SUMMARY:5th International Conference on  Theoretical and Applied Phys
 sics
END:VEVENT
END:VCALENDAR
