BEGIN:VCALENDAR
VERSION:2.0
PRODID:-//hacksw/handcal//NONSGML v1.0//EN
CALSCALE:GREGORIAN
BEGIN:VEVENT
UID:69e4d1de4ddc0
DTSTART:20180613T193000Z
DTSTAMP:20260419T130014Z
DTEND:20180613T193000Z
LOCATION:Washington DC
DESCRIPTION:Nano Tenchnology Event
URL;VALUE=URI:https://www.nanobca.org/
SUMMARY:NanoBusiness Commercialization Association (NanoBCA) 2018 Ann
 nual Conference
END:VEVENT
END:VCALENDAR
