BEGIN:VCALENDAR
VERSION:2.0
PRODID:-//hacksw/handcal//NONSGML v1.0//EN
CALSCALE:GREGORIAN
BEGIN:VEVENT
UID:69e64d5b8a289
DTSTART:20181025T203000Z
DTSTAMP:20260420T155923Z
DTEND:20181026T203000Z
LOCATION:Boston
DESCRIPTION:Nano Tenchnology Event
URL;VALUE=URI:https://atomic-nuclearphysics.conferenceseries.com/call
 l-for-abstracts.php
SUMMARY:4th International Conference on  Atomic and Nuclear Physics
END:VEVENT
END:VCALENDAR
