BEGIN:VCALENDAR
VERSION:2.0
PRODID:-//hacksw/handcal//NONSGML v1.0//EN
CALSCALE:GREGORIAN
BEGIN:VEVENT
UID:69e65ffe70402
DTSTART:20181021T203000Z
DTSTAMP:20260420T171854Z
DTEND:20181022T203000Z
LOCATION:Rome
DESCRIPTION:Nano Tenchnology Event
URL;VALUE=URI:https://magneticmaterials.physicsmeeting.com/call-for-a
 abstracts.php
SUMMARY:3rd International Conference on  Magnetism and Magnetic Mater
 rials
END:VEVENT
END:VCALENDAR
