BEGIN:VCALENDAR
VERSION:2.0
PRODID:-//hacksw/handcal//NONSGML v1.0//EN
CALSCALE:GREGORIAN
BEGIN:VEVENT
UID:69e639e199153
DTSTART:20181014T203000Z
DTSTAMP:20260420T143617Z
DTEND:20181015T203000Z
LOCATION:Ottawa
DESCRIPTION:Nano Tenchnology Event
URL;VALUE=URI:https://molecularphysics.conferenceseries.com/call-for-
 -abstracts.php
SUMMARY:International Conference on  Atomic\, Molecular and Plasma Ph
 hysics
END:VEVENT
END:VCALENDAR
