BEGIN:VCALENDAR
VERSION:2.0
PRODID:-//hacksw/handcal//NONSGML v1.0//EN
CALSCALE:GREGORIAN
BEGIN:VEVENT
UID:69e65ffd915eb
DTSTART:20181118T203000Z
DTSTAMP:20260420T171853Z
DTEND:20181119T203000Z
LOCATION:Tokyo
DESCRIPTION:Nano Tenchnology Event
URL;VALUE=URI:https://physics.physicsmeeting.com/asiapacific/call-for
 r-abstracts.php
SUMMARY:Asia pacific Physics Conference
END:VEVENT
END:VCALENDAR
