BEGIN:VCALENDAR
VERSION:2.0
PRODID:-//hacksw/handcal//NONSGML v1.0//EN
CALSCALE:GREGORIAN
BEGIN:VEVENT
UID:69e674ceeebaf
DTSTART:20181125T203000Z
DTSTAMP:20260420T184742Z
DTEND:20181127T203000Z
LOCATION:Los Angeles
DESCRIPTION:Nano Tenchnology Event
URL;VALUE=URI:https://optics.conferenceseries.com/call-for-abstracts.
 .php
SUMMARY:10th International Conference and Exhibition on  Lasers\, Opt
 tics & Photonics
END:VEVENT
END:VCALENDAR
