BEGIN:VCALENDAR
VERSION:2.0
PRODID:-//hacksw/handcal//NONSGML v1.0//EN
CALSCALE:GREGORIAN
BEGIN:VEVENT
UID:69e674d39f212
DTSTART:20181125T203000Z
DTSTAMP:20260420T184747Z
DTEND:20181127T203000Z
LOCATION:Los Angeles
DESCRIPTION:Nano Tenchnology Event
URL;VALUE=URI:https://condensedmatterphysics.conferenceseries.com/cal
 ll-for-abstracts.php
SUMMARY:5th International Conference on  Theoretical\, Materials and 
  Condensed Matter Physics
END:VEVENT
END:VCALENDAR
