BEGIN:VCALENDAR
VERSION:2.0
PRODID:-//hacksw/handcal//NONSGML v1.0//EN
CALSCALE:GREGORIAN
BEGIN:VEVENT
UID:69e674d40f3b6
DTSTART:20181202T203000Z
DTSTAMP:20260420T184748Z
DTEND:20181203T203000Z
LOCATION:Valencia
DESCRIPTION:Nano Tenchnology Event
URL;VALUE=URI:
SUMMARY:4th International Conference on High Energy & Particle Physic
 cs
END:VEVENT
END:VCALENDAR
