BEGIN:VCALENDAR
VERSION:2.0
PRODID:-//hacksw/handcal//NONSGML v1.0//EN
CALSCALE:GREGORIAN
BEGIN:VEVENT
UID:69e67c5a1b020
DTSTART:20190512T193000Z
DTSTAMP:20260420T191954Z
DTEND:20190513T193000Z
LOCATION:Tokyo
DESCRIPTION:Nano Tenchnology Event
URL;VALUE=URI:https://optics-lasertech.enggconferences.com/call-for-a
 abstracts.php
SUMMARY:13th International Conference on  Optics\, Lasers & Photonics
END:VEVENT
END:VCALENDAR
