BEGIN:VCALENDAR
VERSION:2.0
PRODID:-//hacksw/handcal//NONSGML v1.0//EN
CALSCALE:GREGORIAN
BEGIN:VEVENT
UID:69e5e9d3a0f68
DTSTART:20180701T193000Z
DTSTAMP:20260420T085443Z
DTEND:20180703T193000Z
LOCATION:Berlin
DESCRIPTION:Nano Tenchnology Event
URL;VALUE=URI:https://optics.physicsmeeting.com/
SUMMARY:9th International Conference on  Optics\, Photonics & Lasers
END:VEVENT
END:VCALENDAR
