BEGIN:VCALENDAR
VERSION:2.0
PRODID:-//hacksw/handcal//NONSGML v1.0//EN
CALSCALE:GREGORIAN
BEGIN:VEVENT
UID:69e5ea020c929
DTSTART:20180716T193000Z
DTSTAMP:20260420T085530Z
DTEND:20180717T193000Z
LOCATION:Prague
DESCRIPTION:Nano Tenchnology Event
URL;VALUE=URI:https://physics.physicsmeeting.com/
SUMMARY:5th World Congress on  Physics
END:VEVENT
END:VCALENDAR
