BEGIN:VCALENDAR
VERSION:2.0
PRODID:-//hacksw/handcal//NONSGML v1.0//EN
CALSCALE:GREGORIAN
BEGIN:VEVENT
UID:69e5fe2039d02
DTSTART:20180815T193000Z
DTSTAMP:20260420T102120Z
DTEND:20180816T193000Z
LOCATION:London
DESCRIPTION:Nano Tenchnology Event
URL;VALUE=URI:https://materialsphysics.physicsmeeting.com/
SUMMARY:4th International Conference on  Condensed Matter and Materia
 als Physics
END:VEVENT
END:VCALENDAR
