BEGIN:VCALENDAR
VERSION:2.0
PRODID:-//hacksw/handcal//NONSGML v1.0//EN
CALSCALE:GREGORIAN
BEGIN:VEVENT
UID:69e611e0b5f99
DTSTART:20180909T193000Z
DTSTAMP:20260420T114536Z
DTEND:20180910T193000Z
LOCATION:London
DESCRIPTION:Nano Tenchnology Event
URL;VALUE=URI:https://quantumoptics.physicsmeeting.com/
SUMMARY:3rd International Conference on  Quantum Optics and Quantum C
 Computing
END:VEVENT
END:VCALENDAR
