BEGIN:VCALENDAR
VERSION:2.0
PRODID:-//hacksw/handcal//NONSGML v1.0//EN
CALSCALE:GREGORIAN
BEGIN:VEVENT
UID:69e624a58c519
DTSTART:20180916T193000Z
DTSTAMP:20260420T130541Z
DTEND:20180917T193000Z
LOCATION:Vancouver
DESCRIPTION:Nano Tenchnology Event
URL;VALUE=URI:https://materialphysics.conferenceseries.com
SUMMARY:International Conference on  Condensed Matter Physics and Mat
 terials
END:VEVENT
END:VCALENDAR
