BEGIN:VCALENDAR
VERSION:2.0
PRODID:-//hacksw/handcal//NONSGML v1.0//EN
CALSCALE:GREGORIAN
BEGIN:VEVENT
UID:69e624c4a0369
DTSTART:20180916T193000Z
DTSTAMP:20260420T130612Z
DTEND:20180917T193000Z
LOCATION:Berlin
DESCRIPTION:Nano Tenchnology Event
URL;VALUE=URI:https://physics.conferenceseries.com/
SUMMARY:4th International Conference on  Physics
END:VEVENT
END:VCALENDAR
