BEGIN:VCALENDAR
VERSION:2.0
PRODID:-//hacksw/handcal//NONSGML v1.0//EN
CALSCALE:GREGORIAN
BEGIN:VEVENT
UID:69e612000234a
DTSTART:20180909T193000Z
DTSTAMP:20260420T114608Z
DTEND:20180910T193000Z
LOCATION:Stockholm
DESCRIPTION:Nano Tenchnology Event
URL;VALUE=URI:https://material-science.materialsconferences.com/
SUMMARY:20th International Conference and Exhibition on  Materials Sc
 cience and Engineering
END:VEVENT
END:VCALENDAR
