BEGIN:VCALENDAR
VERSION:2.0
PRODID:-//hacksw/handcal//NONSGML v1.0//EN
CALSCALE:GREGORIAN
BEGIN:VEVENT
UID:69e5fe206f61c
DTSTART:20180826T193000Z
DTSTAMP:20260420T102120Z
DTEND:20180827T193000Z
LOCATION:Toronto
DESCRIPTION:Nano Tenchnology Event
URL;VALUE=URI:https://materialsscience.chemistryconferences.org/
SUMMARY:30th International Conference on  Materials Chemistry & Scien
 nce
END:VEVENT
END:VCALENDAR
