BEGIN:VCALENDAR
VERSION:2.0
PRODID:-//hacksw/handcal//NONSGML v1.0//EN
CALSCALE:GREGORIAN
BEGIN:VEVENT
UID:69e63c306d44b
DTSTART:20191124T203000Z
DTSTAMP:20260420T144608Z
DTEND:20191125T203000Z
LOCATION:Helsinki
DESCRIPTION:Nano Tenchnology Event
URL;VALUE=URI:https://crystallography.materialsconferences.com/
SUMMARY:5th International Conference on  Crystallography & Novel Mate
 erials
END:VEVENT
END:VCALENDAR
