BEGIN:VCALENDAR
VERSION:2.0
PRODID:-//hacksw/handcal//NONSGML v1.0//EN
CALSCALE:GREGORIAN
BEGIN:VEVENT
UID:69e65fe7ef129
DTSTART:20181111T203000Z
DTSTAMP:20260420T171831Z
DTEND:20181112T203000Z
LOCATION:Melbourne
DESCRIPTION:Nano Tenchnology Event
URL;VALUE=URI:https://structural-engineering.materialsconferences.com
 m/
SUMMARY:23rd World Congress on  Structural Materials and Materials Sc
 cienc
END:VEVENT
END:VCALENDAR
