BEGIN:VCALENDAR
VERSION:2.0
PRODID:-//hacksw/handcal//NONSGML v1.0//EN
CALSCALE:GREGORIAN
BEGIN:VEVENT
UID:69e65ffdebdf1
DTSTART:20181106T203000Z
DTSTAMP:20260420T171853Z
DTEND:20181107T203000Z
LOCATION:Atlanta
DESCRIPTION:Nano Tenchnology Event
URL;VALUE=URI:https://materialsscience.conferenceseries.com/
SUMMARY:15th International Conference and Exhibition on  Materials Sc
 cience and Engineering
END:VEVENT
END:VCALENDAR
