BEGIN:VCALENDAR
VERSION:2.0
PRODID:-//hacksw/handcal//NONSGML v1.0//EN
CALSCALE:GREGORIAN
BEGIN:VEVENT
UID:69e639c81fd68
DTSTART:20181014T203000Z
DTSTAMP:20260420T143552Z
DTEND:20181016T203000Z
LOCATION:Helsinki
DESCRIPTION:Nano Tenchnology Event
URL;VALUE=URI:https://materialscience.materialsconferences.com/
SUMMARY:31st Materials Science and Engineering Conference: Advancemen
 nt & Innovations
END:VEVENT
END:VCALENDAR
