BEGIN:VCALENDAR
VERSION:2.0
PRODID:-//hacksw/handcal//NONSGML v1.0//EN
CALSCALE:GREGORIAN
BEGIN:VEVENT
UID:69e639edf23e3
DTSTART:20181014T203000Z
DTSTAMP:20260420T143629Z
DTEND:20181015T203000Z
LOCATION:Las Vegas
DESCRIPTION:Nano Tenchnology Event
URL;VALUE=URI:https://polymerscience.conferenceseries.com/
SUMMARY:8th International Conference on  Polymer Science and Engineer
 ring
END:VEVENT
END:VCALENDAR
