BEGIN:VCALENDAR
VERSION:2.0
PRODID:-//hacksw/handcal//NONSGML v1.0//EN
CALSCALE:GREGORIAN
BEGIN:VEVENT
UID:69e624a56f286
DTSTART:20180916T193000Z
DTSTAMP:20260420T130541Z
DTEND:20180917T193000Z
LOCATION:Berlin
DESCRIPTION:Nano Tenchnology Event
URL;VALUE=URI:https://carbon.materialsconferences.com/
SUMMARY:22nd International Conference on  Graphene\, Carbon Nanotubes
 s and Nanostructures
END:VEVENT
END:VCALENDAR
