BEGIN:VCALENDAR
VERSION:2.0
PRODID:-//hacksw/handcal//NONSGML v1.0//EN
CALSCALE:GREGORIAN
BEGIN:VEVENT
UID:69e639e11eb03
DTSTART:20181014T203000Z
DTSTAMP:20260420T143617Z
DTEND:20181015T203000Z
LOCATION:Abu Dhabi
DESCRIPTION:Nano Tenchnology Event
URL;VALUE=URI:https://nanomaterials.nanotechconferences.org/
SUMMARY:27th International Conference on  Nanomedicine and Nanoscienc
 ce
END:VEVENT
END:VCALENDAR
