BEGIN:VCALENDAR
VERSION:2.0
PRODID:-//hacksw/handcal//NONSGML v1.0//EN
CALSCALE:GREGORIAN
BEGIN:VEVENT
UID:69e67c600f84c
DTSTART:20190519T193000Z
DTSTAMP:20260420T192000Z
DTEND:20190520T193000Z
LOCATION:Zürich
DESCRIPTION:Nano Tenchnology Event
URL;VALUE=URI:https://nano.conferenceseries.com/
SUMMARY:30th World Nano Conference
END:VEVENT
END:VCALENDAR
