BEGIN:VCALENDAR
VERSION:2.0
PRODID:-//hacksw/handcal//NONSGML v1.0//EN
CALSCALE:GREGORIAN
BEGIN:VEVENT
UID:69e65fa5357f6
DTSTART:20181118T203000Z
DTSTAMP:20260420T171725Z
DTEND:20181119T203000Z
LOCATION:Sydney
DESCRIPTION:Nano Tenchnology Event
URL;VALUE=URI:https://biologicalsciences.pharmaceuticalconferences.co
 om/
SUMMARY:International Conference on  Biological & Pharmaceutical Scie
 ences
END:VEVENT
END:VCALENDAR
