BEGIN:VCALENDAR
VERSION:2.0
PRODID:-//hacksw/handcal//NONSGML v1.0//EN
CALSCALE:GREGORIAN
BEGIN:VEVENT
UID:69e674ce7c71c
DTSTART:20181209T203000Z
DTSTAMP:20260420T184742Z
DTEND:20181210T203000Z
LOCATION:Rome
DESCRIPTION:Nano Tenchnology Event
URL;VALUE=URI:https://biotech.pharmaceuticalconferences.com/
SUMMARY:23rd International Conference on  Pharmaceutical Biotechnolog
 gy
END:VEVENT
END:VCALENDAR
