BEGIN:VCALENDAR
VERSION:2.0
PRODID:-//hacksw/handcal//NONSGML v1.0//EN
CALSCALE:GREGORIAN
BEGIN:VEVENT
UID:69e64eaa760d7
DTSTART:20181023T203000Z
DTSTAMP:20260420T160458Z
DTEND:20181024T203000Z
LOCATION:Boston
DESCRIPTION:Nano Tenchnology Event
URL;VALUE=URI:https://biopharmaceutics.pharmaceuticalconferences.com/
SUMMARY:13th International Conference on  Biopharma and Biotherapeuti
 ics
END:VEVENT
END:VCALENDAR
