BEGIN:VCALENDAR
VERSION:2.0
PRODID:-//hacksw/handcal//NONSGML v1.0//EN
CALSCALE:GREGORIAN
BEGIN:VEVENT
UID:69e65fb08b697
DTSTART:20181104T203000Z
DTSTAMP:20260420T171736Z
DTEND:20181106T203000Z
LOCATION:Abu Dhabi
DESCRIPTION:Nano Tenchnology Event
URL;VALUE=URI:https://middleeast.pharmaceuticalconferences.com/
SUMMARY:18th Annual Pharma Middle East Congress
END:VEVENT
END:VCALENDAR
